BEGIN:VCALENDAR
VERSION:2.0
PRODID:-//ISMD - ECPv6.15.17.1//NONSGML v1.0//EN
CALSCALE:GREGORIAN
METHOD:PUBLISH
X-WR-CALNAME:ISMD
X-ORIGINAL-URL:https://maladaptivedaydreamingsociety.com
X-WR-CALDESC:Events for ISMD
REFRESH-INTERVAL;VALUE=DURATION:PT1H
X-Robots-Tag:noindex
X-PUBLISHED-TTL:PT1H
BEGIN:VTIMEZONE
TZID:UTC
BEGIN:STANDARD
TZOFFSETFROM:+0000
TZOFFSETTO:+0000
TZNAME:UTC
DTSTART:20240101T000000
END:STANDARD
END:VTIMEZONE
BEGIN:VEVENT
DTSTART;VALUE=DATE:20250709
DTEND;VALUE=DATE:20250711
DTSTAMP:20260425T005416
CREATED:20250629T192448Z
LAST-MODIFIED:20250629T192448Z
UID:2205-1752102000-1752188399@maladaptivedaydreamingsociety.com
SUMMARY:Drive and MD
DESCRIPTION:This is our main article for the month of July written by Kyla Borcherds that explores the relationship between driving and maladaptive daydreaming. \nDon’t forget to come back and read it once it’s published!
URL:https://maladaptivedaydreamingsociety.com/event/drive-and-md/
ATTACH;FMTTYPE=image/jpeg:https://maladaptivedaydreamingsociety.com/wp-content/uploads/2025/06/Daydreaming-Profile-serie-25.jpg
END:VEVENT
END:VCALENDAR