BEGIN:VCALENDAR
VERSION:2.0
PRODID:-//ISMD - ECPv6.15.17.1//NONSGML v1.0//EN
CALSCALE:GREGORIAN
METHOD:PUBLISH
X-ORIGINAL-URL:https://maladaptivedaydreamingsociety.com
X-WR-CALDESC:Events for ISMD
REFRESH-INTERVAL;VALUE=DURATION:PT1H
X-Robots-Tag:noindex
X-PUBLISHED-TTL:PT1H
BEGIN:VTIMEZONE
TZID:UTC
BEGIN:STANDARD
TZOFFSETFROM:+0000
TZOFFSETTO:+0000
TZNAME:UTC
DTSTART:20240101T000000
END:STANDARD
END:VTIMEZONE
BEGIN:VEVENT
DTSTART;TZID=UTC:20251107T160000
DTEND;TZID=UTC:20251107T160000
DTSTAMP:20260423T054822
CREATED:20251014T145510Z
LAST-MODIFIED:20251214T100208Z
UID:2705-1762531200-1762531200@maladaptivedaydreamingsociety.com
SUMMARY:Webinar - Overcoming Maladaptive Daydreaming: What Has and Hasn't Worked
DESCRIPTION:Personal Journeys\, Strategies\, and Lessons Learned\n\n\n\n\n\n\n\n\nRECORDING AVAILABLE\nAlthough there is no official treatment for Maladaptive Daydreaming\, many people have found ways to reduce or even overcome it. Some\, like ISMD Board Member Jayne Bigelsen\, needed the help of a psychiatrist and medication to get their MD under control.  \nFor others\, medication did not work at all. Former MDers Kyla Borcherds and Rumzi Yousef completely changed their lives without medication\, instead addressing the root causes of their daydreaming\, working through therapy\, learning new coping skills\, practicing mindfulness\, and filling their lives with meaningful\, real-world activities. \nJoin Jayne\, Kyla\, and Rumzi for a candid discussion on what has and hasn’t worked in their journeys\, and share your own experiences in this interactive session. \n \n\n\n\n\n\n\n\n\n Speakers: Jayne Bigelsen (ISMD Board Member)\, Kyla Borcherds (Former MDer)\, Rumzi Yousef (Former MDer) \n     Moderator: Samaa Al Saedi (Student\, AUB) \n Date: 07/11/2025 \n Time: 11 AM EST / 4 PM GMT \n Online \n\n\nJayne Bigelsen is an ISMD Board Member who overcame maladaptive daydreaming with the help of psychiatric support and medication. \nKyla Borcherds is a former maladaptive daydreamer who reduced her MD through therapy\, mindfulness\, and lifestyle changes. \nRumzi Yousef is a former maladaptive daydreamer who overcame MD by addressing its root causes and building new coping strategies. \nSamaa Al Saedi is a Political Studies student at the American University of Beirut and ISMD volunteer\, supporting advocacy and community engagement
URL:https://maladaptivedaydreamingsociety.com/event/overcoming-maladaptive-daydreaming-what-has-and-hasnt-worked/
CATEGORIES:Webinars
ATTACH;FMTTYPE=image/jpeg:https://maladaptivedaydreamingsociety.com/wp-content/uploads/2025/10/children-green-serie-1-300x300-1.jpg
END:VEVENT
END:VCALENDAR