BEGIN:VCALENDAR
VERSION:2.0
PRODID:-//ISMD - ECPv6.15.17.1//NONSGML v1.0//EN
CALSCALE:GREGORIAN
METHOD:PUBLISH
X-ORIGINAL-URL:https://maladaptivedaydreamingsociety.com
X-WR-CALDESC:Events for ISMD
REFRESH-INTERVAL;VALUE=DURATION:PT1H
X-Robots-Tag:noindex
X-PUBLISHED-TTL:PT1H
BEGIN:VTIMEZONE
TZID:UTC
BEGIN:STANDARD
TZOFFSETFROM:+0000
TZOFFSETTO:+0000
TZNAME:UTC
DTSTART:20240101T000000
END:STANDARD
END:VTIMEZONE
BEGIN:VEVENT
DTSTART;TZID=UTC:20251002T180000
DTEND;TZID=UTC:20251002T190000
DTSTAMP:20260423T102218
CREATED:20250915T162622Z
LAST-MODIFIED:20250915T162622Z
UID:2590-1759428000-1759431600@maladaptivedaydreamingsociety.com
SUMMARY:Virtual Silent Read & Write Hour
DESCRIPTION:⏰ Time: 02 p.mEST / 07 p.m. UK / 08 p.m CE \n\n🖥️ Online. Link Provided Upon Registration:\nBook your free ticket now! \nDo you struggle to find time to write your stories or commit to reading the books that inspire you? You’re not alone! Creativity is a huge part of our community\, yet it can be challenging to carve out the time and accountability needed to bring our ideas to life. \nJoin us for ISMD’s first Virtual Silent Read & Write Hour\, a dedicated space for maladaptive daydreamers to immerse themselves in their creative projects—whether it’s journaling\, writing fiction\, poetry\, or simply getting lost in a book. \n\n\n\n\n  \nAt the start of the session\, we’ll have an optional space to share what we’re reading or working on—no pressure\, just a chance to connect. Then\, we’ll settle in for quiet\, focused time to create and explore. \nBring your book\, your journal\, or your next big idea\, and let’s get inspired together! \n\n\n \n  \n\n\n\n\n\n\n\n\n 
URL:https://maladaptivedaydreamingsociety.com/event/virtual-silent-read-write-hour/
ATTACH;FMTTYPE=image/png:https://maladaptivedaydreamingsociety.com/wp-content/uploads/2025/09/banner-silent-reading-2.png
END:VEVENT
BEGIN:VEVENT
DTSTART;TZID=UTC:20251008T130000
DTEND;TZID=UTC:20251008T133000
DTSTAMP:20260423T102218
CREATED:20251002T163418Z
LAST-MODIFIED:20251002T163624Z
UID:2627-1759928400-1759930200@maladaptivedaydreamingsociety.com
SUMMARY:Communication Meeting
DESCRIPTION:Fortnightly Communication team meeting! \nLet’s share ideas and create a community of people ready to talk about maladaptive daydreaming! \nThis meeting is for volunteers only. Interested in volunteering? Apply here!
URL:https://maladaptivedaydreamingsociety.com/event/communication-meeting-081025/
CATEGORIES:Updates
ATTACH;FMTTYPE=image/png:https://maladaptivedaydreamingsociety.com/wp-content/uploads/2025/03/people-md.png
END:VEVENT
BEGIN:VEVENT
DTSTART;VALUE=DATE:20251009
DTEND;VALUE=DATE:20251011
DTSTAMP:20260423T102218
CREATED:20250915T161358Z
LAST-MODIFIED:20250915T161358Z
UID:2579-1760050800-1760137199@maladaptivedaydreamingsociety.com
SUMMARY:Update
DESCRIPTION:Update\nRead Our Latest Blog Post Every 10th of the Month\nDon’t miss our monthly blog updates—insightful articles\, personal stories\, and thought-provoking reflections published regularly on the 10th.Whether you’re looking for information\, inspiration\, or a deeper connection with our community\, you’ll find something worth reading. \nNews! Now we also have a Resource Category. \nYou can explore all our past and latest blog posts here: \nYou can explore all our past blog posts here:\n\n\n\n\nNews And Articles \n\n\n\nCategories\n			\n					Articles\n\n	News\n\n	Resources\n\n			\n\n			\n\n\n\n\n\n\n\n		\n		Recent Posts\n		\n											\n					Limerence and Imaginary Relationships\n									\n											\n					Books on Maladaptive Daydreaming\n									\n											\n					2025 ISMD Achievements – A letter from President Dr. Amy Lucas\n									\n											\n					A Farewell\, a Merger\, and a Hopeful 2026\n									\n											\n					From Golden Age to Overload: The MD Research Landscape\n									\n											\n					New Study by Prof. Nirit Soffer-Dudek: Memory & Self-Concept in Relation to Maladaptive Daydreaming\n									\n											\n					Getting Your Thoughts out of Your Head\n									\n											\n					The Maladaptive Daydreamer Self-Monitoring Log and Journal\n									\n											\n					How to turn dreams into Projects: Webinar Recording\n									\n					\n\n		\n\n\n\n\n\n\n\n\n\n 
URL:https://maladaptivedaydreamingsociety.com/event/update/
ATTACH;FMTTYPE=image/png:https://maladaptivedaydreamingsociety.com/wp-content/uploads/2025/08/Blog-banner.png
END:VEVENT
BEGIN:VEVENT
DTSTART;VALUE=DATE:20251014
DTEND;VALUE=DATE:20251016
DTSTAMP:20260423T102218
CREATED:20250915T142343Z
LAST-MODIFIED:20250915T142343Z
UID:2573-1760482800-1760569199@maladaptivedaydreamingsociety.com
SUMMARY:Newsletter
DESCRIPTION:Newsletter Send-Out\nGet Our Monthly Newsletter Delivered Every 15th\nDon’t miss out on the latest news\, upcoming events\, and insightful articles.\nSubscribe to our monthly newsletter and stay up-to-date with everything happening in our community.\nRemember to save our email address (hello@maladaptivedaydreamingsociety.com) among your contacts\, so it won’t end up in your spam folder. \n  \nOn the following page\, you can subscribe to the newsletter and browse past issues:\nNewsletter \n \n\n\n\n\n\n\n\n\n 
URL:https://maladaptivedaydreamingsociety.com/event/newsletter-2/
CATEGORIES:Updates
ATTACH;FMTTYPE=image/png:https://maladaptivedaydreamingsociety.com/wp-content/uploads/2025/06/banner-newsletter.png
END:VEVENT
END:VCALENDAR