BEGIN:VCALENDAR
VERSION:2.0
PRODID:-//ISMD - ECPv6.15.17.1//NONSGML v1.0//EN
CALSCALE:GREGORIAN
METHOD:PUBLISH
X-WR-CALNAME:ISMD
X-ORIGINAL-URL:https://maladaptivedaydreamingsociety.com
X-WR-CALDESC:Events for ISMD
REFRESH-INTERVAL;VALUE=DURATION:PT1H
X-Robots-Tag:noindex
X-PUBLISHED-TTL:PT1H
BEGIN:VTIMEZONE
TZID:UTC
BEGIN:STANDARD
TZOFFSETFROM:+0000
TZOFFSETTO:+0000
TZNAME:UTC
DTSTART:20240101T000000
END:STANDARD
END:VTIMEZONE
BEGIN:VEVENT
DTSTART;TZID=UTC:20250805T140000
DTEND;TZID=UTC:20250805T153000
DTSTAMP:20260423T133721
CREATED:20250614T105038Z
LAST-MODIFIED:20251214T101255Z
UID:2149-1754402400-1754407800@maladaptivedaydreamingsociety.com
SUMMARY:Webinar: How to Turn Dreams into Projects
DESCRIPTION:10.00 am American Eastern Time\n3.00.pm London Time\n4.00 pm Central Europe Time\nRemember to check your proper timezone! \n\n\n\n\n\n\n\n\n\n\n\n\n\n\n\nProject Management Crash Course\nWith Valeria Franco \nDo your brilliant ideas often remain just that—daydreams? If you’re a maladaptive daydreamer\, you know the power of imagination but may struggle to bring those vivid visions into reality. \nThis webinar bridges that gap. \nI’ll teach you Project Management as a practical framework to transform aspirations into achievable projects. \nDesigned specifically for ISMD volunteers\, this webinar offers highly relevant strategies for all maladaptive daydreamers \n\n\n\n\n\n\n\n\n\n\n\n\n\nYou will learn to: \n\nDefine Activities\nUnderstand your goal\nUnderstand your target\nManage Resources\nFind the right Partners\nCelebrate Achievements!\n\n\n\n\n\n\nJoin! \nhttps://meet.google.com/nwu-ruba-nzp \n  \n\n\n  \n  \n\n\n\n\n\n\n\n\n \nValeria Franco is a board member of ISMD and serves as the organization’s Head of Marketing and Media. She works as a freelance marketing and communications expert for projects in the arts and cultural heritage fields. Valeria is also the President of Maladaptive Daydreaming Italia.
URL:https://maladaptivedaydreamingsociety.com/event/project-management/
CATEGORIES:Webinars
ATTACH;FMTTYPE=image/jpeg:https://maladaptivedaydreamingsociety.com/wp-content/uploads/2025/06/desktop-6_s.jpg
END:VEVENT
END:VCALENDAR